BEGIN:VCALENDAR
VERSION:2.0
PRODID:-//WGP - ECPv6.14.1//NONSGML v1.0//EN
CALSCALE:GREGORIAN
METHOD:PUBLISH
X-WR-CALNAME:WGP
X-ORIGINAL-URL:https://wgp.de
X-WR-CALDESC:Veranstaltungen für WGP
REFRESH-INTERVAL;VALUE=DURATION:PT1H
X-Robots-Tag:noindex
X-PUBLISHED-TTL:PT1H
BEGIN:VTIMEZONE
TZID:Europe/Berlin
BEGIN:DAYLIGHT
TZOFFSETFROM:+0100
TZOFFSETTO:+0200
TZNAME:CEST
DTSTART:20250330T010000
END:DAYLIGHT
BEGIN:STANDARD
TZOFFSETFROM:+0200
TZOFFSETTO:+0100
TZNAME:CET
DTSTART:20251026T010000
END:STANDARD
END:VTIMEZONE
BEGIN:VEVENT
DTSTART;TZID=Europe/Berlin:20251113T160000
DTEND;TZID=Europe/Berlin:20251113T170000
DTSTAMP:20260421T132100
CREATED:20250902T110237Z
LAST-MODIFIED:20250913T113648Z
UID:17016-1763049600-1763053200@wgp.de
SUMMARY:Prozessüberwachung- und Regelung mithilfe von OPC/Edge Computing und KI neu denken
DESCRIPTION:Wir laden Sie herzlich zu unserem Online-Infopoint ein\, bei dem zwei Forscher:innen ihre neuesten Erkenntnisse zur Prozessüberwachung- und Regelung mit Fokus auf die Zerspanung teilen. Dominik Hasselder und Rebecka Haidar werden ihre Forschungsergebnisse zu den Themen “KI-unterstützte Prozessüberwachung und -regelung beim Drehen” und “Edge-Computing zur Automatisierung und Online-Überwachung von Fräsprozessen” vorstellen. Durch die Kombination von KI und Edge-Computing können Produktionsprozesse optimiert und die Wettbewerbsfähigkeit gestärkt werden. Freuen Sie sich auf Einblicke und Anstöße\, wie Sie dieses Potential für Ihr Unternehmen nutzbar machen können. Dieses Online-Event bietet eine exklusive Gelegenheit\, um sich mit Experten auszutauschen und Ihre Fragen zu stellen. Wir freuen uns auf Ihre Teilnahme! \nHier können Sie der online Veranstaltung auf Teams beitreten. \n  \nBildquelle: IWF\, TU Berlin
URL:https://wgp.de/event/prozessueberwachung-und-regelung-mithilfe-von-opc-edge-computing-und-ki-neu-denken/
LOCATION:Online
ATTACH;FMTTYPE=image/svg+xml:https://wgp.de/wp-content/uploads/2025/09/Versuchsaufbau.svg
ORGANIZER;CN="IWF der TU Berlin":MAILTO:hasselder@iwf.tu-berlin.de
END:VEVENT
BEGIN:VEVENT
DTSTART;TZID=Europe/Berlin:20251009T160000
DTEND;TZID=Europe/Berlin:20251009T173000
DTSTAMP:20260421T132100
CREATED:20250724T133831Z
LAST-MODIFIED:20250913T113759Z
UID:16777-1760025600-1760031000@wgp.de
SUMMARY:Lernen in der virtuellen Welt: Wie synthetische Daten und Simulationsumgebungen die Einführung von KI beschleunigen
DESCRIPTION:✨ Mit geringem Aufwand hochwertige Daten für KI sammeln ✨ \nErfahren Sie kostenfrei mehr darüber\, wie Sie mit vergleichsweise geringem Aufwand eine ausreichend große und qualitativ hochwertige Datengrundlage schaffen können\, um KI zu nutzen. Die Basis für Algorithmen der Künstlichen Intelligenz sind bekanntermaßen Daten. Doch oftmals ist die Datenbasis nicht ausreichend. Oder das Labeling von beispielsweise Bilddaten sowie das Training von Reinforcement Learning Algorithmen sind mit hohen Kosten verbunden. Im aktuellen Infopoint „Lernen in der virtuellen Welt: Wie synthetische Daten und Simulationsumgebungen die Einführung von KI beschleunigen“ werden drei verschiedene Anwendungsfälle vorgestellt\, bei denen die Datenerzeugung und das Training der KI-Modelle in den Simulationsumgebungen des Industrial Metaverse durchgeführt wird. Die Teilnehmenden können Fragen stellen und mit den Experten über die Best-Practices und Herausforderungen diskutieren. \nHier können sie der online Veranstaltung auf Teams beitreten. \n  \nBildquelle: Martin Braun
URL:https://wgp.de/event/lernen-in-der-virtuellen-welt/
LOCATION:Online
ATTACH;FMTTYPE=image/jpeg:https://wgp.de/wp-content/uploads/2025/07/Aachen_Infopoint.jpg
ORGANIZER;CN="WZL RWTH Aachen":MAILTO:j.monnet@wzl.rwth-aachen.de
END:VEVENT
END:VCALENDAR